BEGIN:VCALENDAR
VERSION:2.0
PRODID:-//International Research Training Group 2150 - ECPv6.8.3//NONSGML v1.0//EN
CALSCALE:GREGORIAN
METHOD:PUBLISH
X-WR-CALNAME:International Research Training Group 2150
X-ORIGINAL-URL:https://www.irtg2150.rwth-aachen.de
X-WR-CALDESC:Events for International Research Training Group 2150
REFRESH-INTERVAL;VALUE=DURATION:PT1H
X-Robots-Tag:noindex
X-PUBLISHED-TTL:PT1H
BEGIN:VTIMEZONE
TZID:UTC
BEGIN:STANDARD
TZOFFSETFROM:+0000
TZOFFSETTO:+0000
TZNAME:UTC
DTSTART:20180101T000000
END:STANDARD
END:VTIMEZONE
BEGIN:VEVENT
DTSTART;TZID=UTC:20180109T160000
DTEND;TZID=UTC:20180109T173000
DTSTAMP:20260425T214057
CREATED:20171116T145259Z
LAST-MODIFIED:20171116T145259Z
UID:844-1515513600-1515519000@www.irtg2150.rwth-aachen.de
SUMMARY:IRTG meeting (internal)
DESCRIPTION:
URL:https://www.irtg2150.rwth-aachen.de/event/irtg-meeting-internal-17/
LOCATION:IRTG library room\, Pauwelsstrasse 30\, Aaachen\, Non-US or Canadian Address\, 52074\, Germany
CATEGORIES:Internal meeting
END:VEVENT
BEGIN:VEVENT
DTSTART;TZID=UTC:20180109T160000
DTEND;TZID=UTC:20180109T173000
DTSTAMP:20260425T214057
CREATED:20171116T145259Z
LAST-MODIFIED:20171116T145259Z
UID:1006-1515513600-1515519000@www.irtg2150.rwth-aachen.de
SUMMARY:IRTG meeting (internal)
DESCRIPTION:
URL:https://www.irtg2150.rwth-aachen.de/event/irtg-meeting-internal-17-2/
LOCATION:IRTG library room\, Pauwelsstrasse 30\, Aaachen\, Non-US or Canadian Address\, 52074\, Germany
CATEGORIES:Internal meeting
END:VEVENT
END:VCALENDAR