BEGIN:VCALENDAR
VERSION:2.0
PRODID:-//International Research Training Group 2150 - ECPv6.8.3//NONSGML v1.0//EN
CALSCALE:GREGORIAN
METHOD:PUBLISH
X-WR-CALNAME:International Research Training Group 2150
X-ORIGINAL-URL:https://www.irtg2150.rwth-aachen.de
X-WR-CALDESC:Events for International Research Training Group 2150
REFRESH-INTERVAL;VALUE=DURATION:PT1H
X-Robots-Tag:noindex
X-PUBLISHED-TTL:PT1H
BEGIN:VTIMEZONE
TZID:UTC
BEGIN:STANDARD
TZOFFSETFROM:+0000
TZOFFSETTO:+0000
TZNAME:UTC
DTSTART:20180101T000000
END:STANDARD
END:VTIMEZONE
BEGIN:VEVENT
DTSTART;VALUE=DATE:20180704
DTEND;VALUE=DATE:20180714
DTSTAMP:20260426T042144
CREATED:20180530T112049Z
LAST-MODIFIED:20180530T112049Z
UID:1080-1530662400-1531526399@www.irtg2150.rwth-aachen.de
SUMMARY:Digital Signal Processing Workshop
DESCRIPTION:Workshop on Digital Signal Processing. The Workshop is given by Prof. James Christopher Edgar (Neuroradiology – Division of Research\, The Children’s Hospital of Philadelphia)
URL:https://www.irtg2150.rwth-aachen.de/event/digital-signal-processing-workshop/
LOCATION:IRTG Room (Flur 10)
CATEGORIES:Workshops
END:VEVENT
END:VCALENDAR