BEGIN:VCALENDAR
VERSION:2.0
PRODID:-//International Research Training Group 2150 - ECPv6.8.3//NONSGML v1.0//EN
CALSCALE:GREGORIAN
METHOD:PUBLISH
X-WR-CALNAME:International Research Training Group 2150
X-ORIGINAL-URL:https://www.irtg2150.rwth-aachen.de
X-WR-CALDESC:Events for International Research Training Group 2150
REFRESH-INTERVAL;VALUE=DURATION:PT1H
X-Robots-Tag:noindex
X-PUBLISHED-TTL:PT1H
BEGIN:VTIMEZONE
TZID:UTC
BEGIN:STANDARD
TZOFFSETFROM:+0000
TZOFFSETTO:+0000
TZNAME:UTC
DTSTART:20170101T000000
END:STANDARD
END:VTIMEZONE
BEGIN:VEVENT
DTSTART;TZID=UTC:20171107T160000
DTEND;TZID=UTC:20171107T173000
DTSTAMP:20260425T214219
CREATED:20170315T095512Z
LAST-MODIFIED:20170315T095512Z
UID:566-1510070400-1510075800@www.irtg2150.rwth-aachen.de
SUMMARY:IRTG meeting (internal)
DESCRIPTION:
URL:https://www.irtg2150.rwth-aachen.de/event/irtg-meeting-internal-14/
LOCATION:IRTG library room\, Pauwelsstrasse 30\, Aaachen\, Non-US or Canadian Address\, 52074\, Germany
CATEGORIES:Internal meeting
END:VEVENT
BEGIN:VEVENT
DTSTART;TZID=UTC:20171107T160000
DTEND;TZID=UTC:20171107T173000
DTSTAMP:20260425T214219
CREATED:20170315T095512Z
LAST-MODIFIED:20170315T095512Z
UID:987-1510070400-1510075800@www.irtg2150.rwth-aachen.de
SUMMARY:IRTG meeting (internal)
DESCRIPTION:
URL:https://www.irtg2150.rwth-aachen.de/event/irtg-meeting-internal-14-2/
LOCATION:IRTG library room\, Pauwelsstrasse 30\, Aaachen\, Non-US or Canadian Address\, 52074\, Germany
CATEGORIES:Internal meeting
END:VEVENT
BEGIN:VEVENT
DTSTART;TZID=UTC:20171114T160000
DTEND;TZID=UTC:20171114T170000
DTSTAMP:20260425T214219
CREATED:20171018T122430Z
LAST-MODIFIED:20171018T122430Z
UID:1004-1510675200-1510678800@www.irtg2150.rwth-aachen.de
SUMMARY:Journal Club
DESCRIPTION:
URL:https://www.irtg2150.rwth-aachen.de/event/journal-club-14-2/
LOCATION:IRTG library room\, Pauwelsstrasse 30\, Aaachen\, Non-US or Canadian Address\, 52074\, Germany
CATEGORIES:Journal Club
END:VEVENT
BEGIN:VEVENT
DTSTART;TZID=UTC:20171114T160000
DTEND;TZID=UTC:20171114T170000
DTSTAMP:20260425T214219
CREATED:20171018T122430Z
LAST-MODIFIED:20171018T122430Z
UID:820-1510675200-1510678800@www.irtg2150.rwth-aachen.de
SUMMARY:Journal Club
DESCRIPTION:
URL:https://www.irtg2150.rwth-aachen.de/event/journal-club-14/
LOCATION:IRTG library room\, Pauwelsstrasse 30\, Aaachen\, Non-US or Canadian Address\, 52074\, Germany
CATEGORIES:Journal Club
END:VEVENT
BEGIN:VEVENT
DTSTART;TZID=UTC:20171121T160000
DTEND;TZID=UTC:20171121T173000
DTSTAMP:20260425T214219
CREATED:20170315T095722Z
LAST-MODIFIED:20171113T090851Z
UID:572-1511280000-1511285400@www.irtg2150.rwth-aachen.de
SUMMARY:Presentation from Prof. Dirk Feldmeyer (IRTG supervisor; UKA & FZJ)
DESCRIPTION:Title: Synaptic connectivity and neuromodulation in the neocortex
URL:https://www.irtg2150.rwth-aachen.de/event/presentation-from-prof-ulrike-kramer-university-of-lubeck/
LOCATION:IRTG library room\, Pauwelsstrasse 30\, Aaachen\, Non-US or Canadian Address\, 52074\, Germany
CATEGORIES:External talks
END:VEVENT
BEGIN:VEVENT
DTSTART;TZID=UTC:20171121T160000
DTEND;TZID=UTC:20171121T173000
DTSTAMP:20260425T214219
CREATED:20170315T095722Z
LAST-MODIFIED:20170315T095722Z
UID:990-1511280000-1511285400@www.irtg2150.rwth-aachen.de
SUMMARY:Presentation from Prof. Dirk Feldmeyer (IRTG supervisor; UKA & FZJ)
DESCRIPTION:Title: Synaptic connectivity and neuromodulation in the neocortex
URL:https://www.irtg2150.rwth-aachen.de/event/presentation-from-prof-ulrike-kramer-university-of-lubeck-2/
LOCATION:IRTG library room\, Pauwelsstrasse 30\, Aaachen\, Non-US or Canadian Address\, 52074\, Germany
CATEGORIES:External talks
END:VEVENT
END:VCALENDAR