BEGIN:VCALENDAR
VERSION:2.0
PRODID:-//International Research Training Group 2150 - ECPv6.8.3//NONSGML v1.0//EN
CALSCALE:GREGORIAN
METHOD:PUBLISH
X-WR-CALNAME:International Research Training Group 2150
X-ORIGINAL-URL:https://www.irtg2150.rwth-aachen.de
X-WR-CALDESC:Events for International Research Training Group 2150
REFRESH-INTERVAL;VALUE=DURATION:PT1H
X-Robots-Tag:noindex
X-PUBLISHED-TTL:PT1H
BEGIN:VTIMEZONE
TZID:UTC
BEGIN:STANDARD
TZOFFSETFROM:+0000
TZOFFSETTO:+0000
TZNAME:UTC
DTSTART:20190101T000000
END:STANDARD
END:VTIMEZONE
BEGIN:VEVENT
DTSTART;TZID=UTC:20190716T170000
DTEND;TZID=UTC:20190716T183000
DTSTAMP:20260426T025452
CREATED:20181206T090603Z
LAST-MODIFIED:20190714T131411Z
UID:1209-1563296400-1563301800@www.irtg2150.rwth-aachen.de
SUMMARY:IRTG Meeting (internal)
DESCRIPTION:
URL:https://www.irtg2150.rwth-aachen.de/event/irtg-meeting-internal-30/
LOCATION:IRTG library room\, Pauwelsstrasse 30\, Aaachen\, Non-US or Canadian Address\, 52074\, Germany
CATEGORIES:Internal meeting
END:VEVENT
BEGIN:VEVENT
DTSTART;TZID=UTC:20190723T170000
DTEND;TZID=UTC:20190723T183000
DTSTAMP:20260426T025452
CREATED:20190715T095330Z
LAST-MODIFIED:20190715T095330Z
UID:1396-1563901200-1563906600@www.irtg2150.rwth-aachen.de
SUMMARY:Presentation by Dr. Gesa Hartwigsen
DESCRIPTION:Dear colleagues\, \nWe would like to invite you to a talk given by Dr. Gesa Hartwigsen (Max Planck Institute for Human Cognitive and Brain Sciences\, Leipzig) within the framework of the International Research Training Group (IRTG 2150\, The Neuroscience of Modulating Aggression and Impulsivity in Psychopathology). \n The talk is entitled: Adaptive plasticity in the language network  \n and will be held on Tuesday\, July 23rd\, 5:00-6:30 pm in the library of the Department of Psychiatry\, Psychotherapy and Psychosomatics (E3\, Flur 11\, Raum 1) of the Uniklinik RWTH Aachen
URL:https://www.irtg2150.rwth-aachen.de/event/presentation-by-dr-gesa-hartwigsen/
LOCATION:IRTG library room\, Pauwelsstrasse 30\, Aaachen\, Non-US or Canadian Address\, 52074\, Germany
CATEGORIES:External talks
END:VEVENT
END:VCALENDAR